BEGIN:VCALENDAR
VERSION:2.0
PRODID:-//ShulCloud.com//North Shore Temple Emanuel Calendar//EN
CALSCALE:GREGORIAN
X-WR-CALNAME:North Shore Temple Emanuel Calendar
X-WR-TIMEZONE;VALUE=TEXT:Australia/Sydney
METHOD:PUBLISH
www.nste.org.auDTSTAMP:20210301T124135
BEGIN:VEVENT
UID:E2009457@shulcloud.com
SUMMARY:Simchat Torah Morning
DTSTART:20201009T230000Z
DTEND:20201010T000000Z
END:VEVENT
END:VCALENDAR
