BEGIN:VCALENDAR
VERSION:2.0
PRODID:-//ShulCloud.com//North Shore Temple Emanuel Calendar//EN
CALSCALE:GREGORIAN
X-WR-CALNAME:North Shore Temple Emanuel Calendar
X-WR-TIMEZONE;VALUE=TEXT:Australia/Sydney
METHOD:PUBLISH
www.nste.org.auDTSTAMP:20210301T124125
BEGIN:VEVENT
UID:E2009456@shulcloud.com
SUMMARY:Erev Simchat Torah
DTSTART:20201009T073000Z
DTEND:20201009T083000Z
END:VEVENT
END:VCALENDAR
