BEGIN:VCALENDAR
VERSION:2.0
PRODID:-//ShulCloud.com//North Shore Temple Emanuel Calendar//EN
CALSCALE:GREGORIAN
X-WR-CALNAME:North Shore Temple Emanuel Calendar
X-WR-TIMEZONE;VALUE=TEXT:Australia/Sydney
METHOD:PUBLISH
www.nste.org.auDTSTAMP:20210301T123751
BEGIN:VEVENT
UID:E2160120@shulcloud.com
SUMMARY:Boomers Walking Group - 2nd Kirribilli to North Sydney via Sub Base
	 Platypus
LOCATION:Kirribilli
DTSTART:20210303T230000Z
DTEND:20210304T010000Z
END:VEVENT
END:VCALENDAR
