BEGIN:VCALENDAR
VERSION:2.0
PRODID:-//ShulCloud.com//North Shore Temple Emanuel Calendar//EN
CALSCALE:GREGORIAN
X-WR-CALNAME:North Shore Temple Emanuel Calendar
X-WR-TIMEZONE;VALUE=TEXT:Australia/Sydney
METHOD:PUBLISH
www.nste.org.auDTSTAMP:20210301T124155
BEGIN:VEVENT
UID:E2128506@shulcloud.com
SUMMARY:Boomers Film Group Event - February 2021
DTSTART:20210228T063000Z
DTEND:20210228T073000Z
END:VEVENT
END:VCALENDAR
