BEGIN:VCALENDAR
VERSION:2.0
PRODID:-//ShulCloud.com//North Shore Temple Emanuel Calendar//EN
CALSCALE:GREGORIAN
X-WR-CALNAME:North Shore Temple Emanuel Calendar
X-WR-TIMEZONE;VALUE=TEXT:Australia/Sydney
METHOD:PUBLISH
www.nste.org.auDTSTAMP:20210301T123723
BEGIN:VEVENT
UID:E2159138@shulcloud.com
SUMMARY:Boomers Book Club - March 2021
DTSTART:20210302T233000Z
DTEND:20210303T013000Z
END:VEVENT
END:VCALENDAR
